BEGIN:VCALENDAR
VERSION:2.0
PRODID:Cal_App//Daily@Planet
METHOD:PUBLISH
BEGIN:VEVENT
DTSTART;TZID=CET:20250603T190000
DTEND;TZID=CET:20250603T200000
LOCATION: 
DTSTAMP:20260419T100200
SUMMARY:Clubabend
URL;VALUE=URI:https://frankfurterwespen.de/event/clubabend-8786-10120/
DESCRIPTION:Liebe Mitglieder,    wie jeden Monat laden wir zum Clubabend ein. Externe Interessierte sind herzlich willkommen.    Wir freuen uns auf euch!    Viele Grüße    Der Vorstand
CLASS:PUBLIC
UID:10120
END:VEVENT
END:VCALENDAR
