BEGIN:VCALENDAR
VERSION:2.0
PRODID:Cal_App//Daily@Planet
METHOD:PUBLISH
BEGIN:VEVENT
DTSTART;TZID=CET:20251202T190000
DTEND;TZID=CET:20251202T200000
LOCATION: 
DTSTAMP:20260420T055100
SUMMARY:Clubabend
URL;VALUE=URI:https://frankfurterwespen.de/event/clubabend-8786-10126/
DESCRIPTION:<p style="text-align: left">Liebe Mitglieder,</p>  wie jeden Monat laden wir zum Clubabend ein. Externe Interessierte sind herzlich willkommen.    Wir freuen uns auf euch!    Viele Grüße    Der Vorstand
CLASS:PUBLIC
UID:10126
END:VEVENT
END:VCALENDAR
