BEGIN:VCALENDAR
VERSION:2.0
PRODID:Cal_App//Daily@Planet
METHOD:PUBLISH
BEGIN:VEVENT
DTSTART;TZID=CET:20260517T090000
DTEND;TZID=CET:20260517T160000
LOCATION: 
DTSTAMP:20260420T125000
SUMMARY:The Distinguished Gentleman's Ride
URL;VALUE=URI:https://frankfurterwespen.de/event/the-distinguished-gentlemans-ride/
DESCRIPTION:<a href="https://www.gentlemansride.com/rides/germany/frankfurt">Frankfurt - The Distinguished Gentleman's Ride</a>
CLASS:PUBLIC
UID:10159
END:VEVENT
END:VCALENDAR
