BEGIN:VCALENDAR
VERSION:2.0
PRODID:Cal_App//Daily@Planet
METHOD:PUBLISH
BEGIN:VEVENT
DTSTART;TZID=CET:20260904T090000
DTEND;TZID=CET:20260911T190000
LOCATION: 
DTSTAMP:20260420T091500
SUMMARY:Glemseck 101 4.-6. September 2026
URL;VALUE=URI:https://frankfurterwespen.de/event/glemseck-101-4-6-september-2026/
DESCRIPTION:<a href="https://www.glemseck101.de/auftritt-waehlen/#allgemeine-informationen">Auftritt wählen – Glemseck 101</a>  <div class="zn_text_box eluid4d2e659b hidden-zn_dummy_value hidden-zn_dummy_value hidden-zn_dummy_value hidden-zn_dummy_value zn_text_box-light element-scheme--light"></div>  <div class="zn_text_box eluid7406e291 hidden-zn_dummy_value hidden-zn_dummy_value hidden-zn_dummy_value hidden-zn_dummy_value zn_text_box-light element-scheme--light">    <span style="font-size: 1rem">Glemseck GmBH</span>    </div>  <div class="col-sm-4">  <div id="text_contact-1" class="widget widget_text_contact">  <div class="textwidget contact-details">    Glemseck 1  71229 Leonberg    </div>  <strong>Glemseck 101 | 4. - 6. September 2026</strong>    Wir freuen uns sehr, einen Monat nachdem ihr mit uns das 101 in 2025 gerockt habt, euch mit der Veröffentlichung des Datum 2026, unsere Runde 19 offiziell bestätigen zu können. Mehr dazu ab Ende November 2025. Wir informieren euch hier auf der Webseite, auf <a href="https://www.facebook.com/Glemseck101/" target="_blank" rel="noopener">101 Facebook</a> und <a href="https://www.instagram.com/glemseck101/" target="_blank" rel="noopener">101 Instagram</a>. Danke an euch großartige Fans, Partner &amp; Gastorganisatoren und Teilnehmer.    <strong>Das Glemseck 101.  The place to be.  </strong>    Einer der größten Motorradveranstaltungen in Europa. Ein langes Wochenende, ein Motorradfestival, ein Live Musik Rock &amp; Rockabilly Treffen und die weltberühmten Glemseck 101-1/8 Meile Sprints. Dazu über 101 Aussteller auf der langen Händlermeile, Probefahrten sowie vielfältige Gastronomie. Offen für alle Marken, jede Motorradbauart, jeden 2-Rad Motorradcharakter und jeden Custom-Style.    Der Ort „Glemseck“ steht für Motorsport-Tradition pur im Süden Deutschlands. Bis in die 60er Jahre hinein haben sich auf der legendären Solitude Rennstrecke rund um das »Glemseck« die zwei- und vierrädrigen Legenden des Motorsports aufregende Rennen geliefert – und bis heute ist das Hotel Glemseck und sein Biergarten über das ganze Jahr einer der großen Treffpunkte im Süden Deutschlands für tausende Motorradfahrer/innen und Motorsport-Fans.    Mit dem Glemseck 101 feiern wir einmal im Jahr, bei freiem Eintritt, jedes erste Wochenende im September, diesen Mythos. Diese großartige Motorsport- und Custom-Tradition, wie all die Menschen welche diesen Ort ausmachen. Damals und heute.    Es ist unser ganz besonderer „Spirit 101“. Wer einmal am 101 war, wird diesen nie vergessen.    </div>  </div>
CLASS:PUBLIC
UID:11215
END:VEVENT
END:VCALENDAR
