BEGIN:VCALENDAR
VERSION:2.0
PRODID:Cal_App//Daily@Planet
METHOD:PUBLISH
BEGIN:VEVENT
DTSTART;TZID=CET:20260217T140000
DTEND;TZID=CET:20260217T170000
LOCATION: 
DTSTAMP:20260420T110400
SUMMARY:Renate-Gräfe-Vespa-Stiftung  Kaffee und Kreppel am Faschingsdienstag 17.02.2026 ab 14:00
URL;VALUE=URI:https://frankfurterwespen.de/event/renate-graefe-vespa-stiftung-kaffee-und-kreppel-am-faschingsdienstag-17-02-2026-ab-1400/
DESCRIPTION:<a href="https://vespa-stiftung-frankfurt.jimdosite.com/">Home | Vespa-Stiftung-Frankfurt</a>    <a href="https://www.google.com/url?sa=t&amp;rct=j&amp;q=&amp;esrc=s&amp;source=web&amp;cd=&amp;ved=2ahUKEwjVlIGi_NCSAxWN0wIHHTZ5Ja4Q4kB6BAgjEAM&amp;url=%2Fmaps%2Fplace%2F%2Fdata%3D!4m2!3m1!1s0x47bd09bf0e5c96c1%3A0xdf2b178a52e56e01%3Fsa%3DX%26ved%3D1t%3A8290%26ictx%3D111&amp;usg=AOvVaw11sQ4tIOW1rwkQRrv9LukF&amp;opi=89978449" data-url="/maps/place//data=!4m2!3m1!1s0x47bd09bf0e5c96c1:0xdf2b178a52e56e01?sa=X&amp;ved=2ahUKEwjVlIGi_NCSAxWN0wIHHTZ5Ja4Q4kB6BAgJEAA" data-jsarwt="1" data-usg="AOvVaw11sQ4tIOW1rwkQRrv9LukF" data-ved="2ahUKEwjVlIGi_NCSAxWN0wIHHTZ5Ja4Q4kB6BAgjEAM" data-ctbtn="0" data-cthref="/url?sa=t&amp;rct=j&amp;q=&amp;esrc=s&amp;source=web&amp;cd=&amp;ved=2ahUKEwjVlIGi_NCSAxWN0wIHHTZ5Ja4Q4kB6BAgjEAM&amp;url=%2Fmaps%2Fplace%2F%2Fdata%3D!4m2!3m1!1s0x47bd09bf0e5c96c1%3A0xdf2b178a52e56e01%3Fsa%3DX%26ved%3D1t%3A8290%26ictx%3D111&amp;usg=AOvVaw11sQ4tIOW1rwkQRrv9LukF&amp;opi=89978449" data-jrwt="1">Alt-Praunheim 44, 60488 Frankfurt am Main</a>
CLASS:PUBLIC
UID:11220
END:VEVENT
END:VCALENDAR
