BEGIN:VCALENDAR
VERSION:2.0
PRODID:Cal_App//Daily@Planet
METHOD:PUBLISH
BEGIN:VEVENT
DTSTART;TZID=CET:20260426T110000
DTEND;TZID=CET:20260426T160000
LOCATION: 
DTSTAMP:20260420T021500
SUMMARY:Neu-Anspach Vespa Treffen 26.04.2026
URL;VALUE=URI:https://frankfurterwespen.de/event/neu-anspach-vespa-treffen-26-04-2026/
DESCRIPTION:Vespa-Treffen    Saisoneröffnung    26.04.2026 11:00 - 16:00 Uhr    Neu-Anspach / Zum Kirchborn 28    Einladung die Teilnahme ist kostenlos Getränke und Essen vorhanden
CLASS:PUBLIC
UID:11243
END:VEVENT
END:VCALENDAR
