BEGIN:VCALENDAR
VERSION:2.0
PRODID:Cal_App//Daily@Planet
METHOD:PUBLISH
BEGIN:VEVENT
DTSTART;TZID=CET:20260425T110000
DTEND;TZID=CET:20260425T160000
LOCATION: 
DTSTAMP:20260420T035100
SUMMARY:KBS Season Opening Sommer
URL;VALUE=URI:https://frankfurterwespen.de/event/kbs-season-opening-sommer/
DESCRIPTION:Feiert mit uns den Saison Beginn.    Es gibt:  <ul>   	<li>Musik</li>   	<li>Roller Ausstellung</li>   	<li>Pizza Truck</li>   	<li>Gewinnspiel</li>   	<li>Gute Vibes</li>  </ul>  Hanauer Landstraße 294 , 60314 Frankfurt    <a href="https://www.kbs-frankfurt.de/">KBS Frankfurt | VESPA | PIAGGIO | APRILIA | PEUGEOT | KYMCO Händler Frankfurt – KBS-2025</a>    &nbsp;
CLASS:PUBLIC
UID:11322
END:VEVENT
END:VCALENDAR
