BEGIN:VCALENDAR
VERSION:2.0
PRODID:Cal_App//Daily@Planet
METHOD:PUBLISH
BEGIN:VEVENT
DTSTART;TZID=CET:20260822T150000
DTEND;TZID=CET:20260822T220000
LOCATION: 
DTSTAMP:20260420T065400
SUMMARY:10 Jahre Passione Vespa Club Wolfsburg 22. August,
URL;VALUE=URI:https://frankfurterwespen.de/event/10-jahre-passione-vespa-club-wolfsburg-22-august/
DESCRIPTION:📍 <strong>Wann &amp; wo?</strong>  <strong>22. August, ab 15-22Uhr. Ab 22 Uhr After Party Kunstnuseum Wolfsburg</strong>  <strong>Hollerplatz</strong>, vor dem Stadtmuseum bzw. Rathaus Wolfsburg    <strong>Vespa Einfahrt 1</strong> und Parkplätze über die Schillerpassage in Richtung Fußgängerzone, <strong>Porschestrasse 98, 38440 Wolfsburg</strong>    <strong>Vespa Einfahrt 2</strong> und Parkplätze über Pestalozzialle gegenüber der Sparkasse, <strong>Porschestrasse 70, 38440 Wolfsburg</strong>    🎟️ <strong>Eintritt frei!</strong>  Keine Anmeldung, kein Nenngeld, keine Voraussetzungen.  Ob Clubmitglied oder nicht, ob mit Vespa oder ohne – <strong>alle sind willkommen</strong>.  Kommt einfach spontan vorbei, bringt eure Vespa (oder eure Neugier) und vor allem gute Laune mit!    🎉 <strong>Was euch erwartet:</strong>  • musikalische Live-Acts und Orchester  • Italienische kulinarische Spezialitäten, Foodtrucks, Bier- und Weinstände  • Vespa-Aktivitäten wie Geschicklichkeitsrennen und Leistungsprüfstand  • Vespa-Stände, Zubehör und Vespa-Flohmarkt  • Italienische Vereine mit ihren Spezialitäten und Aktivitäten  • Oldtimer wie Fiat 500, Ape &amp; mehr  . After Party Kunstnuseum Wolfsburg    <strong>Passione Vespa Club Wolfsburg</strong> 🛵❤️    <a href="https://deref-web.de/mail/client/qE0aaCICTVA/dereferrer/?redirectUrl=https%3A%2F%2Fwww.bing.com%2Fck%2Fa%3F%21%26%26p%3D54d5aed808f053766637b93e7a53b9e0baa0c5c241da63a3a1d3448b5889dba2JmltdHM9MTc3MDA3NjgwMA%26ptn%3D3%26ver%3D2%26hsh%3D4%26fclid%3D01c2f676-1f97-6b9a-19ad-e0b21b9769cb%26psq%3Dpassione%2Bvespa%2Bclub%2Bwolfsburg%2Bhome%26u%3Da1aHR0cHM6Ly9wYXNzaW9uZS12Yy13b2xmc2J1cmcuZGUv">https://passione-vc-wolfsburg.de</a>    <a href="https://deref-web.de/mail/client/qE0aaCICTVA/dereferrer/?redirectUrl=https%3A%2F%2Fwww.bing.com%2Fck%2Fa%3F%21%26%26p%3D54d5aed808f053766637b93e7a53b9e0baa0c5c241da63a3a1d3448b5889dba2JmltdHM9MTc3MDA3NjgwMA%26ptn%3D3%26ver%3D2%26hsh%3D4%26fclid%3D01c2f676-1f97-6b9a-19ad-e0b21b9769cb%26psq%3Dpassione%2Bvespa%2Bclub%2Bwolfsburg%2Bhome%26u%3Da1aHR0cHM6Ly9wYXNzaW9uZS12Yy13b2xmc2J1cmcuZGUv">Facebook/Instagramm: </a>    <a href="https://deref-web.de/mail/client/qE0aaCICTVA/dereferrer/?redirectUrl=https%3A%2F%2Fwww.bing.com%2Fck%2Fa%3F%21%26%26p%3D54d5aed808f053766637b93e7a53b9e0baa0c5c241da63a3a1d3448b5889dba2JmltdHM9MTc3MDA3NjgwMA%26ptn%3D3%26ver%3D2%26hsh%3D4%26fclid%3D01c2f676-1f97-6b9a-19ad-e0b21b9769cb%26psq%3Dpassione%2Bvespa%2Bclub%2Bwolfsburg%2Bhome%26u%3Da1aHR0cHM6Ly9wYXNzaW9uZS12Yy13b2xmc2J1cmcuZGUv">passionevespaclubwolfsburg</a>    Präsident Falsone Francesco    Passione Vespa Club Wolfsburg
CLASS:PUBLIC
UID:11327
END:VEVENT
END:VCALENDAR
