BEGIN:VCALENDAR
VERSION:2.0
PRODID:Cal_App//Daily@Planet
METHOD:PUBLISH
BEGIN:VEVENT
DTSTART;TZID=CET:20260531T120000
DTEND;TZID=CET:20260531T190000
LOCATION: 
DTSTAMP:20260420T083000
SUMMARY:Wiesenfest an der Praunheimer Brücke Ferdi.
URL;VALUE=URI:https://frankfurterwespen.de/event/wiesenfest-an-der-praunheimer-bruecke-ferdi/
DESCRIPTION:Wiesenfest mit Oldtimer Treffen in Praunheim mit Stellfläche für unseren Club    Infos über Ferdinando
CLASS:PUBLIC
UID:11342
END:VEVENT
END:VCALENDAR
