BEGIN:VCALENDAR
VERSION:2.0
PRODID:Cal_App//Daily@Planet
METHOD:PUBLISH
BEGIN:VEVENT
DTSTART;TZID=CET:20250204T190000
DTEND;TZID=CET:20250204T200000
LOCATION: 
DTSTAMP:20260420T044300
SUMMARY:Clubabend
URL;VALUE=URI:https://frankfurterwespen.de/event/clubabend-8786-9180/
DESCRIPTION:Liebe Mitglieder,    wie jeden Monat laden wir zum Clubabend ein.    Wir freuen uns auf euch!    Viele Grüße    Der Vorstand
CLASS:PUBLIC
UID:9180
END:VEVENT
END:VCALENDAR
