BEGIN:VCALENDAR
VERSION:2.0
PRODID:Cal_App//Daily@Planet
METHOD:PUBLISH
BEGIN:VEVENT
DTSTART;TZID=CET:20250401T190000
DTEND;TZID=CET:20250401T200000
LOCATION: 
DTSTAMP:20260420T014400
SUMMARY:Clubabend
URL;VALUE=URI:https://frankfurterwespen.de/event/clubabend-8786-9182/
DESCRIPTION:Liebe Mitglieder,    wie jeden Monat laden wir zum Clubabend ein. Wie zum letzten Clubabend angekündigt, dieses Mal zur Probe in den Räumlichkeiten des SV Riederwald.    Wir freuen uns auf euch!    Viele Grüße    Der Vorstand
CLASS:PUBLIC
UID:9182
END:VEVENT
END:VCALENDAR
